BEGIN:VCALENDAR
VERSION:2.0
PRODID:-//Fountaingate Gardens - ECPv6.6.4.2//NONSGML v1.0//EN
CALSCALE:GREGORIAN
METHOD:PUBLISH
X-ORIGINAL-URL:https://www.fountaingateli.org
X-WR-CALDESC:Events for Fountaingate Gardens
REFRESH-INTERVAL;VALUE=DURATION:PT1H
X-Robots-Tag:noindex
X-PUBLISHED-TTL:PT1H
BEGIN:VTIMEZONE
TZID:UTC
BEGIN:STANDARD
TZOFFSETFROM:+0000
TZOFFSETTO:+0000
TZNAME:UTC
DTSTART:20260101T000000
END:STANDARD
END:VTIMEZONE
BEGIN:VEVENT
DTSTART;TZID=UTC:20260505T120000
DTEND;TZID=UTC:20260505T140000
DTSTAMP:20260425T141842
CREATED:20260421T192240Z
LAST-MODIFIED:20260423T195331Z
UID:17473-1777982400-1777989600@www.fountaingateli.org
SUMMARY:Independent Living Cinco De Mayo Lunch and Learn
DESCRIPTION:Join Us for a Cinco de Mayo Lunch & Learn Fiesta!\nAt Fountaingate Gardens\, every day is worth celebrating — and we’re turning up the fiesta for Cinco de Mayo! Come join us for a festive Lunch & Learn and discover why Fountaingate Gardens is Long Island’s premier Life Plan Community. From luxurious residences and fabulous amenities to enriching activities designed for active adults 62+\, life at Fountaingate Gardens is vibrant\, full of flavor — a lifestyle worth toasting! \nLearn how a Life Plan Community like Fountaingate Gardens offers much more than a traditional 55+ community — discover how our unique healthcare safety net and predictable monthly expenses can protect your health and financial planning\, ensuring your tomorrow is as vibrant as your today! \nJoin us on May 5\, 2026 — enjoy a delicious meal\, an informative presentation and a tour of our beautiful campus — see firsthand why Long Islanders voted Fountaingate Gardens “Best Retirement Community!” \nCome find your Fountaingate Feeling!  RSVP today: \n  \n\n                \n                        \n                             \n							"*" indicates required fields \n                         \n \n                        Name*\n                            \n                            \n                                                    \n                                                    First\n                                                \n                            \n                            \n                                                    \n                                                    Last\n                                                \n                            \n                        Address*    \n                    \n                         \n                                        \n                                        Street Address\n                                    \n                                        \n                                        Address Line 2\n                                    \n                                    \n                                    City\n                                 \n                                        AlabamaAlaskaAmerican SamoaArizonaArkansasCaliforniaColoradoConnecticutDelawareDistrict of ColumbiaFloridaGeorgiaGuamHawaiiIdahoIllinoisIndianaIowaKansasKentuckyLouisianaMaineMarylandMassachusettsMichiganMinnesotaMississippiMissouriMontanaNebraskaNevadaNew HampshireNew JerseyNew MexicoNew YorkNorth CarolinaNorth DakotaNorthern Mariana IslandsOhioOklahomaOregonPennsylvaniaPuerto RicoRhode IslandSouth CarolinaSouth DakotaTennesseeTexasUtahU.S. Virgin IslandsVermontVirginiaWashingtonWest VirginiaWisconsinWyomingArmed Forces AmericasArmed Forces EuropeArmed Forces Pacific\n                                        State\n                                      \n                                    \n                                    ZIP Code\n                                \n                    \n                Email*\n                            \n                        Phone Number*How did you hear about Fountaingate Gardens? CommentsNewsletter\n								\n								Yes\, I'd like to receive updates\, please sign me up for your newsletter.\n							PhoneThis field is for validation purposes and should be left unchanged.\n          \n            \n            \n            \n            \n            \n            \n            \n            \n            \n        \n                        Δ \n                        \n\n  \n  \n         \n  \n 
URL:https://www.fountaingateli.org/event/cinco-de-mayo-event/
LOCATION:Fountaingate Gardens\, 32 Hauppauge Road\, Commack\, NY\, 11725\, United States
ATTACH;FMTTYPE=image/jpeg:https://www.fountaingateli.org/wp-content/uploads/2026/04/Prospect-DM_5.5_v2_website-scaled.jpg
END:VEVENT
END:VCALENDAR